Workbook

Sheet 5-6
C2: № | D2: 5-А | F2: 5-Б | H2: 5-В | J2: 5-К | L2: 6-А | N2: 6-Б | P2: 6-В | R2: 6-Г
B3: Понедельник | C3: ВД | D3: Разговоры о важном | L3: Разговоры о важном
C4: 1 | D4: Русский язык | E4: =VLOOKUP(D4,[1]Лист1!$A$1:$B$13,2,0) -> 8 | F4: Русский язык | G4: =VLOOKUP(F4,[1]Лист1!$A$1:$B$13,2,0) -> 8 | H4: История | I4: =VLOOKUP(H4,[1]Лист1!$A$1:$B$13,2,0) -> 5 | J4: Труд (технология) | K4: =VLOOKUP(J4,[1]Лист1!$A$1:$B$13,2,0) -> 4 | L4: Математика | M4: =VLOOKUP(L4,[1]Лист2!$A$1:$B$17,2,0) -> 13 | N4: Математика | O4: =VLOOKUP(N4,[1]Лист2!$A$1:$B$17,2,0) -> 13 | P4: Ин.язык (англ.) | Q4: =VLOOKUP(P4,[1]Лист2!$A$1:$B$17,2,0) -> 11 | R4: История | S4: =VLOOKUP(R4,[1]Лист2!$A$1:$B$17,2,0) -> 8
C5: 2 | D5: Литература | E5: =VLOOKUP(D5,[1]Лист1!$A$1:$B$13,2,0) -> 4 | F5: Математика | G5: =VLOOKUP(F5,[1]Лист1!$A$1:$B$13,2,0) -> 10 | H5: Русский язык | I5: =VLOOKUP(H5,[1]Лист1!$A$1:$B$13,2,0) -> 8 | J5: Труд (технология) | K5: =VLOOKUP(J5,[1]Лист1!$A$1:$B$13,2,0) -> 4 | L5: Физкультура | M5: =VLOOKUP(L5,[1]Лист2!$A$1:$B$17,2,0) -> 4 | N5: История | O5: =VLOOKUP(N5,[1]Лист2!$A$1:$B$17,2,0) -> 8 | P5: Математика | Q5: =VLOOKUP(P5,[1]Лист2!$A$1:$B$17,2,0) -> 13 | R5: Ин.язык (англ.) | S5: =VLOOKUP(R5,[1]Лист2!$A$1:$B$17,2,0) -> 11
C6: 3 | D6: Физкультура | E6: =VLOOKUP(D6,[1]Лист1!$A$1:$B$13,2,0) -> 3 | F6: История | G6: =VLOOKUP(F6,[1]Лист1!$A$1:$B$13,2,0) -> 5 | H6: Труд (технология) | I6: =VLOOKUP(H6,[1]Лист1!$A$1:$B$13,2,0) -> 4 | J6: Русский язык | K6: =VLOOKUP(J6,[1]Лист1!$A$1:$B$13,2,0) -> 8 | L6: Ин.язык (англ.) | M6: =VLOOKUP(L6,[1]Лист2!$A$1:$B$17,2,0) -> 11 | N6: Модуль по видам спорта "Гандбол" | O6: =VLOOKUP(N6,[1]Лист2!$A$1:$B$17,2,0) -> 4 | P6: История | Q6: =VLOOKUP(P6,[1]Лист2!$A$1:$B$17,2,0) -> 8 | R6: Математика | S6: =VLOOKUP(R6,[1]Лист2!$A$1:$B$17,2,0) -> 13
C7: 4 | D7: История | E7: =VLOOKUP(D7,[1]Лист1!$A$1:$B$13,2,0) -> 5 | F7: Литература | G7: =VLOOKUP(F7,[1]Лист1!$A$1:$B$13,2,0) -> 4 | H7: Труд (технология) | I7: =VLOOKUP(H7,[1]Лист1!$A$1:$B$13,2,0) -> 4 | J7: Математика | K7: =VLOOKUP(J7,[1]Лист1!$A$1:$B$13,2,0) -> 10 | L7: Русский язык | M7: =VLOOKUP(L7,[1]Лист2!$A$1:$B$17,2,0) -> 12 | N7: Ин.язык (англ.) | O7: =VLOOKUP(N7,[1]Лист2!$A$1:$B$17,2,0) -> 11 | P7: Физкультура | Q7: =VLOOKUP(P7,[1]Лист2!$A$1:$B$17,2,0) -> 4 | R7: Русский язык | S7: =VLOOKUP(R7,[1]Лист2!$A$1:$B$17,2,0) -> 12
C8: 5 | D8: Математика | E8: =VLOOKUP(D8,[1]Лист1!$A$1:$B$13,2,0) -> 10 | F8: Труд (технология) | G8: =VLOOKUP(F8,[1]Лист1!$A$1:$B$13,2,0) -> 4 | H8: Литература | I8: =VLOOKUP(H8,[1]Лист1!$A$1:$B$13,2,0) -> 4 | J8: История | K8: =VLOOKUP(J8,[1]Лист1!$A$1:$B$13,2,0) -> 5 | L8: История | M8: =VLOOKUP(L8,[1]Лист2!$A$1:$B$17,2,0) -> 8 | N8: Русский язык | O8: =VLOOKUP(N8,[1]Лист2!$A$1:$B$17,2,0) -> 12 | P8: Русский язык | Q8: =VLOOKUP(P8,[1]Лист2!$A$1:$B$17,2,0) -> 12 | R8: Литература | S8: =VLOOKUP(R8,[1]Лист2!$A$1:$B$17,2,0) -> 6
C9: 6 | D9: Основы финансовой грамотности | E9: =VLOOKUP(D9,[1]Лист1!$A$1:$B$13,2,0) -> 7 | F9: Труд (технология) | G9: =VLOOKUP(F9,[1]Лист1!$A$1:$B$13,2,0) -> 4 | H9: Математика | I9: =VLOOKUP(H9,[1]Лист1!$A$1:$B$13,2,0) -> 10 | J9: Литература | K9: =VLOOKUP(J9,[1]Лист1!$A$1:$B$13,2,0) -> 4 | L9: Литература | M9: =VLOOKUP(L9,[1]Лист2!$A$1:$B$17,2,0) -> 6 | N9: Литература | O9: =VLOOKUP(N9,[1]Лист2!$A$1:$B$17,2,0) -> 6 | P9: Литература | Q9: =VLOOKUP(P9,[1]Лист2!$A$1:$B$17,2,0) -> 6 | R9: Физкультура | S9: =VLOOKUP(R9,[1]Лист2!$A$1:$B$17,2,0) -> 4
B11: Итого баллов за день | E11: =SUM(E4:E9) -> 37 | G11: =SUM(G4:G9) -> 35 | I11: =SUM(I4:I9) -> 35 | K11: =SUM(K4:K9) -> 35 | M11: =SUM(M4:M9) -> 54 | O11: =SUM(O4:O9) -> 54 | Q11: =SUM(Q4:Q9) -> 54 | S11: =SUM(S4:S9) -> 54
B12: Вторник | C12: 1 | D12: Ин.язык (англ.) | E12: =VLOOKUP(D12,[1]Лист1!$A$1:$B$13,2,0) -> 9 | F12: Математика | G12: =VLOOKUP(F12,[1]Лист1!$A$1:$B$13,2,0) -> 10 | H12: Математика | I12: =VLOOKUP(H12,[1]Лист1!$A$1:$B$13,2,0) -> 10 | J12: Русский язык | K12: =VLOOKUP(J12,[1]Лист1!$A$1:$B$13,2,0) -> 8 | L12: ИЗО | M12: =VLOOKUP(L12,[1]Лист2!$A$1:$B$17,2,0) -> 3 | N12: Русский язык | O12: =VLOOKUP(N12,[1]Лист2!$A$1:$B$17,2,0) -> 12 | P12: Физкультура | Q12: =VLOOKUP(P12,[1]Лист2!$A$1:$B$17,2,0) -> 4 | R12: Модуль по видам спорта "Гандбол" | S12: =VLOOKUP(R12,[1]Лист2!$A$1:$B$17,2,0) -> 4
C13: 2 | D13: Биология | E13: =VLOOKUP(D13,[1]Лист1!$A$1:$B$13,2,0) -> 10 | F13: Русский язык | G13: =VLOOKUP(F13,[1]Лист1!$A$1:$B$13,2,0) -> 8 | H13: Ин.язык (англ.) | I13: =VLOOKUP(H13,[1]Лист1!$A$1:$B$13,2,0) -> 9 | J13: История | K13: =VLOOKUP(J13,[1]Лист1!$A$1:$B$13,2,0) -> 5 | L13: Модуль по видам спорта "Гандбол" | M13: =VLOOKUP(L13,[1]Лист2!$A$1:$B$17,2,0) -> 4 | N13: ИЗО | O13: =VLOOKUP(N13,[1]Лист2!$A$1:$B$17,2,0) -> 3 | P13: Математика | Q13: =VLOOKUP(P13,[1]Лист2!$A$1:$B$17,2,0) -> 13 | R13: Русский язык | S13: =VLOOKUP(R13,[1]Лист2!$A$1:$B$17,2,0) -> 12
C14: 3 | D14: Труд (технология) | E14: =VLOOKUP(D14,[1]Лист1!$A$1:$B$13,2,0) -> 4 | F14: Ин.язык (англ.) | G14: =VLOOKUP(F14,[1]Лист1!$A$1:$B$13,2,0) -> 9 | H14: Русский язык | I14: =VLOOKUP(H14,[1]Лист1!$A$1:$B$13,2,0) -> 8 | J14: Биология | K14: =VLOOKUP(J14,[1]Лист1!$A$1:$B$13,2,0) -> 10 | L14: Русский язык | M14: =VLOOKUP(L14,[1]Лист2!$A$1:$B$17,2,0) -> 12 | N14: Физкультура | O14: =VLOOKUP(N14,[1]Лист2!$A$1:$B$17,2,0) -> 4 | P14: ИЗО | Q14: =VLOOKUP(P14,[1]Лист2!$A$1:$B$17,2,0) -> 3 | R14: Литература | S14: =VLOOKUP(R14,[1]Лист2!$A$1:$B$17,2,0) -> 6
C15: 4 | D15: Труд (технология) | E15: =VLOOKUP(D15,[1]Лист1!$A$1:$B$13,2,0) -> 4 | F15: Литература | G15: =VLOOKUP(F15,[1]Лист1!$A$1:$B$13,2,0) -> 4 | H15: Физкультура | I15: =VLOOKUP(H15,[1]Лист1!$A$1:$B$13,2,0) -> 3 | J15: Ин.язык (англ.) | K15: =VLOOKUP(J15,[1]Лист1!$A$1:$B$13,2,0) -> 9 | L15: Литература | M15: =VLOOKUP(L15,[1]Лист2!$A$1:$B$17,2,0) -> 6 | N15: Математика | O15: =VLOOKUP(N15,[1]Лист2!$A$1:$B$17,2,0) -> 13 | P15: Русский язык | Q15: =VLOOKUP(P15,[1]Лист2!$A$1:$B$17,2,0) -> 12 | R15: ИЗО | S15: =VLOOKUP(R15,[1]Лист2!$A$1:$B$17,2,0) -> 3
C16: 5 | D16: Математика | E16: =VLOOKUP(D16,[1]Лист1!$A$1:$B$13,2,0) -> 10 | F16: Биология | G16: =VLOOKUP(F16,[1]Лист1!$A$1:$B$13,2,0) -> 10 | H16: История | I16: =VLOOKUP(H16,[1]Лист1!$A$1:$B$13,2,0) -> 5 | J16: Математика | K16: =VLOOKUP(J16,[1]Лист1!$A$1:$B$13,2,0) -> 10 | L16: Математика | M16: =VLOOKUP(L16,[1]Лист2!$A$1:$B$17,2,0) -> 13 | N16: Род. яз. (рус/кр.т) | O16: =VLOOKUP(N16,[1]Лист2!$A$1:$B$17,2,0) -> 12 | P16: Род. яз. (рус/кр.т) | Q16: =VLOOKUP(P16,[1]Лист2!$A$1:$B$17,2,0) -> 12 | R16: Род. яз. (рус/кр.т) | S16: =VLOOKUP(R16,[1]Лист2!$A$1:$B$17,2,0) -> 12
C17: 6 | D17: Русский язык | E17: =VLOOKUP(D17,[1]Лист1!$A$1:$B$13,2,0) -> 8 | F17: Физкультура | G17: =VLOOKUP(F17,[1]Лист1!$A$1:$B$13,2,0) -> 3 | H17: Биология | I17: =VLOOKUP(H17,[1]Лист1!$A$1:$B$13,2,0) -> 10 | L17: Функциональная грамотность | M17: =VLOOKUP(L17,[1]Лист2!$A$1:$B$17,2,0) -> 7 | N17: Литература | O17: =VLOOKUP(N17,[1]Лист2!$A$1:$B$17,2,0) -> 6 | P17: Литература | Q17: =VLOOKUP(P17,[1]Лист2!$A$1:$B$17,2,0) -> 6 | R17: Математика | S17: =VLOOKUP(R17,[1]Лист2!$A$1:$B$17,2,0) -> 13
B19: Итого баллов за день | E19: =SUM(E12:E17) -> 45 | G19: =SUM(G12:G17) -> 44 | I19: =SUM(I12:I17) -> 45 | K19: =SUM(K12:K17) -> 42 | M19: =SUM(M12:M17) -> 45 | O19: =SUM(O12:O17) -> 50 | Q19: =SUM(Q12:Q17) -> 50 | S19: =SUM(S12:S17) -> 50
B20: Среда | C20: 1 | D20: География | E20: =VLOOKUP(D20,[1]Лист1!$A$1:$B$13,2,0) -> 7 | F20: Русский язык | G20: =VLOOKUP(F20,[1]Лист1!$A$1:$B$15,2,0) -> 8 | H20: Математика | I20: =VLOOKUP(H20,[1]Лист1!$A$1:$B$13,2,0) -> 10 | J20: Музыка | K20: =VLOOKUP(J20,[1]Лист1!$A$1:$B$13,2,0) -> 2 | L20: История | M20: =VLOOKUP(L20,[1]Лист2!$A$1:$B$17,2,0) -> 8 | N20: Ин.язык (англ.) | O20: =VLOOKUP(N20,[1]Лист2!$A$1:$B$17,2,0) -> 11 | P20: Математика | Q20: =VLOOKUP(P20,[1]Лист2!$A$1:$B$17,2,0) -> 13 | R20: Физкультура | S20: =VLOOKUP(R20,[1]Лист2!$A$1:$B$17,2,0) -> 4
C21: 2 | D21: Русский язык | E21: =VLOOKUP(D21,[1]Лист1!$A$1:$B$13,2,0) -> 8 | F21: История | G21: =VLOOKUP(F21,[1]Лист1!$A$1:$B$15,2,0) -> 5 | H21: Русский язык | I21: =VLOOKUP(H21,[1]Лист1!$A$1:$B$13,2,0) -> 8 | J21: География | K21: =VLOOKUP(J21,[1]Лист1!$A$1:$B$13,2,0) -> 7 | L21: Русский язык | M21: =VLOOKUP(L21,[1]Лист2!$A$1:$B$17,2,0) -> 12 | N21: История | O21: =VLOOKUP(N21,[1]Лист2!$A$1:$B$17,2,0) -> 8 | P21: Ин.язык (англ.) | Q21: =VLOOKUP(P21,[1]Лист2!$A$1:$B$17,2,0) -> 11 | R21: Русский язык | S21: =VLOOKUP(R21,[1]Лист2!$A$1:$B$17,2,0) -> 12
C22: 3 | D22: История | E22: =VLOOKUP(D22,[1]Лист1!$A$1:$B$13,2,0) -> 5 | F22: Математика | G22: =VLOOKUP(F22,[1]Лист1!$A$1:$B$15,2,0) -> 10 | H22: География | I22: =VLOOKUP(H22,[1]Лист1!$A$1:$B$13,2,0) -> 7 | J22: Русский язык | K22: =VLOOKUP(J22,[1]Лист1!$A$1:$B$13,2,0) -> 8 | L22: Музыка | M22: =VLOOKUP(L22,[1]Лист2!$A$1:$B$17,2,0) -> 1 | N22: Физкультура | O22: =VLOOKUP(N22,[1]Лист2!$A$1:$B$17,2,0) -> 4 | P22: Модуль по видам спорта "Гандбол" | Q22: =VLOOKUP(P22,[1]Лист2!$A$1:$B$17,2,0) -> 4 | R22: История | S22: =VLOOKUP(R22,[1]Лист2!$A$1:$B$17,2,0) -> 8
C23: 4 | D23: Музыка | E23: =VLOOKUP(D23,[1]Лист1!$A$1:$B$13,2,0) -> 2 | F23: География | G23: =VLOOKUP(F23,[1]Лист1!$A$1:$B$15,2,0) -> 7 | H23: Литература | I23: =VLOOKUP(H23,[1]Лист1!$A$1:$B$13,2,0) -> 4 | J23: Физкультура | K23: =VLOOKUP(J23,[1]Лист1!$A$1:$B$13,2,0) -> 3 | L23: Ин.язык (англ.) | M23: =VLOOKUP(L23,[1]Лист2!$A$1:$B$17,2,0) -> 11 | N23: Математика | O23: =VLOOKUP(N23,[1]Лист2!$A$1:$B$17,2,0) -> 13 | P23: История | Q23: =VLOOKUP(P23,[1]Лист2!$A$1:$B$17,2,0) -> 8 | R23: Литература | S23: =VLOOKUP(R23,[1]Лист2!$A$1:$B$17,2,0) -> 6
C24: 5 | D24: Литература | E24: =VLOOKUP(D24,[1]Лист1!$A$1:$B$13,2,0) -> 4 | F24: Род. яз. (рус/кр.т) | G24: =VLOOKUP(F24,[1]Лист1!$A$1:$B$15,2,0) -> 8 | H24: Род. яз. (рус/кр.т) | I24: =VLOOKUP(H24,[1]Лист1!$A$1:$B$16,2,0) -> 8 | J24: Модуль по видам спорта "Гандбол" | K24: =VLOOKUP(J24,[1]Лист1!$A$1:$B$13,2,0) -> 3 | L24: Математика | M24: =VLOOKUP(L24,[1]Лист2!$A$1:$B$17,2,0) -> 13 | N24: Математика | O24: =VLOOKUP(N24,[1]Лист2!$A$1:$B$17,2,0) -> 13 | P24: Русский язык | Q24: =VLOOKUP(P24,[1]Лист2!$A$1:$B$17,2,0) -> 12 | R24: Математика | S24: =VLOOKUP(R24,[1]Лист2!$A$1:$B$17,2,0) -> 13
C25: 6 | F25: Модуль по видам спорта "Гандбол" | G25: =VLOOKUP(F25,[1]Лист1!$A$1:$B$15,2,0) -> 3 | H25: Физкультура | I25: =VLOOKUP(H25,[1]Лист1!$A$1:$B$13,2,0) -> 3 | J25: Математика | K25: =VLOOKUP(J25,[1]Лист1!$A$1:$B$13,2,0) -> 10 | N25: Русский язык | O25: =VLOOKUP(N25,[1]Лист2!$A$1:$B$17,2,0) -> 12 | P25: Литература | Q25: =VLOOKUP(P25,[1]Лист2!$A$1:$B$17,2,0) -> 6 | R25: Ин.язык (англ.) | S25: =VLOOKUP(R25,[1]Лист2!$A$1:$B$17,2,0) -> 11
B27: Итого баллов за день | E27: =SUM(E20:E24) -> 26 | G27: =SUM(G20:G25) -> 41 | I27: =SUM(I20:I25) -> 40 | J27: =SUM(J20:J24) -> 0 | K27: =SUM(K20:K25) -> 33 | M27: =SUM(M20:M24) -> 45 | O27: =SUM(O20:O25) -> 61 | Q27: =SUM(Q20:Q25) -> 54 | S27: =SUM(S20:S25) -> 54
B28: Четверг | C28: 1 | D28: Физкультура | E28: =VLOOKUP(D28,[1]Лист1!$A$1:$B$13,2,0) -> 3 | F28: Ин.язык (англ.) | G28: =VLOOKUP(F28,[1]Лист1!$A$1:$B$15,2,0) -> 9 | H28: Модуль по видам спорта "Гандбол" | I28: =VLOOKUP(H28,[1]Лист1!$A$1:$B$13,2,0) -> 3 | J28: Русский язык | K28: =VLOOKUP(J28,[1]Лист1!$A$1:$B$13,2,0) -> 8 | L28: Биология | M28: =VLOOKUP(L28,[1]Лист2!$A$1:$B$17,2,0) -> 8 | N28: География | O28: =VLOOKUP(N28,[1]Лист2!$A$1:$B$17,2,0) -> 7 | P28: Русский язык | Q28: =VLOOKUP(P28,[1]Лист2!$A$1:$B$17,2,0) -> 12 | R28: Математика | S28: =VLOOKUP(R28,[1]Лист2!$A$1:$B$17,2,0) -> 13
C29: 2 | D29: Русский язык | E29: =VLOOKUP(D29,[1]Лист1!$A$1:$B$13,2,0) -> 8 | F29: Физкультура | G29: =VLOOKUP(F29,[1]Лист1!$A$1:$B$15,2,0) -> 3 | H29: Ин.язык (англ.) | I29: =VLOOKUP(H29,[1]Лист1!$A$1:$B$13,2,0) -> 9 | J29: Литература | K29: =VLOOKUP(J29,[1]Лист1!$A$1:$B$13,2,0) -> 4 | L29: География | M29: =VLOOKUP(L29,[1]Лист2!$A$1:$B$17,2,0) -> 7 | N29: Труд (технология) | O29: =VLOOKUP(N29,[1]Лист2!$A$1:$B$17,2,0) -> 3 | P29: Биология | Q29: =VLOOKUP(P29,[1]Лист2!$A$1:$B$17,2,0) -> 8 | R29: История | S29: =VLOOKUP(R29,[1]Лист2!$A$1:$B$17,2,0) -> 8
C30: 3 | D30: Ин.язык (англ.) | E30: =VLOOKUP(D30,[1]Лист1!$A$1:$B$13,2,0) -> 9 | F30: Русский язык | G30: =VLOOKUP(F30,[1]Лист1!$A$1:$B$15,2,0) -> 8 | H30: Математика | I30: =VLOOKUP(H30,[1]Лист1!$A$1:$B$13,2,0) -> 10 | J30: Физкультура | K30: =VLOOKUP(J30,[1]Лист1!$A$1:$B$13,2,0) -> 3 | L30: История | M30: =VLOOKUP(L30,[1]Лист2!$A$1:$B$17,2,0) -> 8 | N30: Труд (технология) | O30: =VLOOKUP(N30,[1]Лист2!$A$1:$B$17,2,0) -> 3 | P30: География | Q30: =VLOOKUP(P30,[1]Лист2!$A$1:$B$17,2,0) -> 7 | R30: Биология | S30: =VLOOKUP(R30,[1]Лист2!$A$1:$B$17,2,0) -> 8
C31: 4 | D31: Литература | E31: =VLOOKUP(D31,[1]Лист1!$A$1:$B$13,2,0) -> 4 | F31: Литература | G31: =VLOOKUP(F31,[1]Лист1!$A$1:$B$15,2,0) -> 4 | H31: Музыка | I31: =VLOOKUP(H31,[1]Лист1!$A$1:$B$13,2,0) -> 2 | J31: Ин.язык (англ.) | K31: =VLOOKUP(J31,[1]Лист1!$A$1:$B$13,2,0) -> 9 | L31: Русский язык | M31: =VLOOKUP(L31,[1]Лист2!$A$1:$B$17,2,0) -> 12 | N31: Русский язык | O31: =VLOOKUP(N31,[1]Лист2!$A$1:$B$17,2,0) -> 12 | P31: История | Q31: =VLOOKUP(P31,[1]Лист2!$A$1:$B$17,2,0) -> 8 | R31: География | S31: =VLOOKUP(R31,[1]Лист2!$A$1:$B$17,2,0) -> 7
C32: 5 | D32: Математика | E32: =VLOOKUP(D32,[1]Лист1!$A$1:$B$13,2,0) -> 10 | F32: Музыка | G32: =VLOOKUP(F32,[1]Лист1!$A$1:$B$15,2,0) -> 2 | H32: Русский язык | I32: =VLOOKUP(H32,[1]Лист1!$A$1:$B$13,2,0) -> 8 | J32: Математика | K32: =VLOOKUP(J32,[1]Лист1!$A$1:$B$13,2,0) -> 10 | L32: Труд (технология) | M32: =VLOOKUP(L32,[1]Лист2!$A$1:$B$17,2,0) -> 3 | N32: История | O32: =VLOOKUP(N32,[1]Лист2!$A$1:$B$17,2,0) -> 8 | P32: Математика | Q32: =VLOOKUP(P32,[1]Лист2!$A$1:$B$17,2,0) -> 13 | R32: Русский язык | S32: =VLOOKUP(R32,[1]Лист2!$A$1:$B$17,2,0) -> 12
C33: 6 | D33: Математика | E33: =VLOOKUP(D33,[1]Лист1!$A$1:$B$13,2,0) -> 10 | F33: Математика | G33: =VLOOKUP(F33,[1]Лист1!$A$1:$B$15,2,0) -> 10 | J33: ОБЗР | K33: =VLOOKUP(J33,[1]Лист1!$A$1:$B$18,2,0) -> 3 | L33: Труд (технология) | M33: =VLOOKUP(L33,[1]Лист2!$A$1:$B$17,2,0) -> 3 | N33: Род. лит. (рус/кр.т) | O33: =VLOOKUP(N33,[1]Лист2!$A$1:$B$17,2,0) -> 6 | P33: Род. лит. (рус/кр.т) | Q33: =VLOOKUP(P33,[1]Лист2!$A$1:$B$17,2,0) -> 6 | R33: Род. лит. (рус/кр.т) | S33: =VLOOKUP(R33,[1]Лист2!$A$1:$B$17,2,0) -> 6
L34: Россия – мои горизонты
B35: Итого баллов за день | E35: =SUM(E28:E33) -> 44 | G35: =SUM(G28:G33) -> 36 | I35: =SUM(I28:I33) -> 32 | K35: =SUM(K28:K33) -> 37 | M35: =SUM(M28:M33) -> 41 | O35: =SUM(O28:O33) -> 39 | Q35: =SUM(Q28:Q33) -> 54 | S35: =SUM(S28:S33) -> 54
B36: Пятница | C36: 1 | D36: История | E36: =VLOOKUP(D36,[1]Лист1!$A$1:$B$13,2,0) -> 5 | F36: Русский язык | G36: =VLOOKUP(F36,[1]Лист1!$A$1:$B$15,2,0) -> 8 | H36: Математика | I36: =VLOOKUP(H36,[1]Лист1!$A$1:$B$13,2,0) -> 10 | J36: ИЗО | K36: =VLOOKUP(J36,[1]Лист1!$A$1:$B$13,2,0) -> 3 | L36: Физкультура | M36: =VLOOKUP(L36,[1]Лист2!$A$1:$B$17,2,0) -> 4 | N36: Математика | O36: =VLOOKUP(N36,[1]Лист2!$A$1:$B$17,2,0) -> 13 | P36: Музыка | Q36: =VLOOKUP(P36,[1]Лист2!$A$1:$B$17,2,0) -> 1 | R36: Русский язык | S36: =VLOOKUP(R36,[1]Лист2!$A$1:$B$17,2,0) -> 12
C37: 2 | D37: Русский язык | E37: =VLOOKUP(D37,[1]Лист1!$A$1:$B$13,2,0) -> 8 | F37: Математика | G37: =VLOOKUP(F37,[1]Лист1!$A$1:$B$15,2,0) -> 10 | H37: ИЗО | I37: =VLOOKUP(H37,[1]Лист1!$A$1:$B$13,2,0) -> 3 | J37: Русский язык | K37: =VLOOKUP(J37,[1]Лист1!$A$1:$B$13,2,0) -> 8 | L37: Русский язык | M37: =VLOOKUP(L37,[1]Лист2!$A$1:$B$17,2,0) -> 12 | N37: Музыка | O37: =VLOOKUP(N37,[1]Лист2!$A$1:$B$17,2,0) -> 1 | P37: Математика | Q37: =VLOOKUP(P37,[1]Лист2!$A$1:$B$17,2,0) -> 13 | R37: Труд (технология) | S37: =VLOOKUP(R37,[1]Лист2!$A$1:$B$17,2,0) -> 3
C38: 3 | D38: Литература | E38: =VLOOKUP(D38,[1]Лист1!$A$1:$B$13,2,0) -> 4 | F38: ИЗО | G38: =VLOOKUP(F38,[1]Лист1!$A$1:$B$15,2,0) -> 3 | H38: Русский язык | I38: =VLOOKUP(H38,[1]Лист1!$A$1:$B$13,2,0) -> 8 | J38: История | K38: =VLOOKUP(J38,[1]Лист1!$A$1:$B$13,2,0) -> 5 | L38: Математика | M38: =VLOOKUP(L38,[1]Лист2!$A$1:$B$17,2,0) -> 13 | N38: Биология | O38: =VLOOKUP(N38,[1]Лист2!$A$1:$B$17,2,0) -> 8 | P38: Ин.язык (англ.) | Q38: =VLOOKUP(P38,[1]Лист2!$A$1:$B$17,2,0) -> 11 | R38: Труд (технология) | S38: =VLOOKUP(R38,[1]Лист2!$A$1:$B$17,2,0) -> 3
C39: 4 | D39: ИЗО | E39: =VLOOKUP(D39,[1]Лист1!$A$1:$B$13,2,0) -> 3 | F39: История | G39: =VLOOKUP(F39,[1]Лист1!$A$1:$B$15,2,0) -> 5 | H39: Литература | I39: =VLOOKUP(H39,[1]Лист1!$A$1:$B$13,2,0) -> 4 | J39: Математика | K39: =VLOOKUP(J39,[1]Лист1!$A$1:$B$13,2,0) -> 10 | L39: Литература | M39: =VLOOKUP(L39,[1]Лист2!$A$1:$B$17,2,0) -> 6 | N39: Ин.язык (англ.) | O39: =VLOOKUP(N39,[1]Лист2!$A$1:$B$17,2,0) -> 11 | P39: Труд (технология) | Q39: =VLOOKUP(P39,[1]Лист2!$A$1:$B$17,2,0) -> 3 | R39: Музыка | S39: =VLOOKUP(R39,[1]Лист2!$A$1:$B$17,2,0) -> 1
C40: 5 | D40: Модуль по видам спорта "Гандбол" | E40: =VLOOKUP(D40,[1]Лист1!$A$1:$B$13,2,0) -> 3 | F40: Род. лит. (рус/кр.т) | G40: =VLOOKUP(F40,[1]Лист1!$A$1:$B$16,2,0) -> 4 | H40: Род. лит. (рус/кр.т) | J40: Литература | K40: =VLOOKUP(J40,[1]Лист1!$A$1:$B$13,2,0) -> 4 | L40: Математика | M40: =VLOOKUP(L40,[1]Лист2!$A$1:$B$17,2,0) -> 13 | N40: Русский язык | O40: =VLOOKUP(N40,[1]Лист2!$A$1:$B$17,2,0) -> 12 | P40: Труд (технология) | Q40: =VLOOKUP(P40,[1]Лист2!$A$1:$B$17,2,0) -> 3 | R40: Ин.язык (англ.) | S40: =VLOOKUP(R40,[1]Лист2!$A$1:$B$17,2,0) -> 11
C41: 6 | D41: Математика | E41: =VLOOKUP(D41,[1]Лист1!$A$1:$B$13,2,0) -> 10 | H41: История | I41: =VLOOKUP(H41,[1]Лист1!$A$1:$B$13,2,0) -> 5 | J41: Основы программирования | K41: =VLOOKUP(J41,[1]Лист1!$A$1:$B$15,2,0) -> 4 | L41: Ин.язык (англ.) | M41: =VLOOKUP(L41,[1]Лист2!$A$1:$B$17,2,0) -> 11 | N41: Литература | O41: =VLOOKUP(N41,[1]Лист2!$A$1:$B$17,2,0) -> 6 | P41: Русский язык | Q41: =VLOOKUP(P41,[1]Лист2!$A$1:$B$17,2,0) -> 12 | R41: Математика | S41: =VLOOKUP(R41,[1]Лист2!$A$1:$B$17,2,0) -> 13
B43: Итого баллов за день | E43: =SUM(E36:E41) -> 33 | G43: =SUM(G36:G41) -> 30 | I43: =SUM(I36:I41) -> 30 | K43: =SUM(K36:K41) -> 34 | M43: =SUM(M36:M41) -> 59 | O43: =SUM(O36:O41) -> 51 | Q43: =SUM(Q36:Q41) -> 43 | S43: =SUM(S36:S41) -> 43
